BEGIN:VCALENDAR
VERSION:2.0
PRODID:-//eLogistika.info - ECPv6.15.20//NONSGML v1.0//EN
CALSCALE:GREGORIAN
METHOD:PUBLISH
X-WR-CALNAME:eLogistika.info
X-ORIGINAL-URL:https://www.elogistika.info
X-WR-CALDESC:Akce na eLogistika.info
REFRESH-INTERVAL;VALUE=DURATION:PT1H
X-Robots-Tag:noindex
X-PUBLISHED-TTL:PT1H
BEGIN:VTIMEZONE
TZID:Europe/Prague
BEGIN:DAYLIGHT
TZOFFSETFROM:+0100
TZOFFSETTO:+0200
TZNAME:CEST
DTSTART:20230326T010000
END:DAYLIGHT
BEGIN:STANDARD
TZOFFSETFROM:+0200
TZOFFSETTO:+0100
TZNAME:CET
DTSTART:20231029T010000
END:STANDARD
BEGIN:DAYLIGHT
TZOFFSETFROM:+0100
TZOFFSETTO:+0200
TZNAME:CEST
DTSTART:20240331T010000
END:DAYLIGHT
BEGIN:STANDARD
TZOFFSETFROM:+0200
TZOFFSETTO:+0100
TZNAME:CET
DTSTART:20241027T010000
END:STANDARD
BEGIN:DAYLIGHT
TZOFFSETFROM:+0100
TZOFFSETTO:+0200
TZNAME:CEST
DTSTART:20250330T010000
END:DAYLIGHT
BEGIN:STANDARD
TZOFFSETFROM:+0200
TZOFFSETTO:+0100
TZNAME:CET
DTSTART:20251026T010000
END:STANDARD
END:VTIMEZONE
BEGIN:VEVENT
DTSTART;TZID=Europe/Prague:20240905T120000
DTEND;TZID=Europe/Prague:20240905T170000
DTSTAMP:20260421T160829
CREATED:20221226T120523Z
LAST-MODIFIED:20240119T102839Z
UID:71935-1725537600-1725555600@www.elogistika.info
SUMMARY:XII. Dopravní konference
DESCRIPTION:Stěžejními tématy konference budou rozvoj a financování dopravní infrastruktury v regionu východních Čech v nadcházejících letech s ohledem na strategie ministerstva dopravy\, dopravní uzel Pardubice\, silniční hospodářství a dopravní obslužnost východočeského regionu\, nejvýznamnější stavby Pardubického kraje\, budoucnost regionální železniční a vodní dopravy a modernizace letiště v Pardubicích. Konference je určena představitelům státní správy a samosprávy\, zástupcům zainteresované veřejnosti z oboru dopravy a dalším zájemcům z podnikatelské sféry.
URL:https://www.elogistika.info/akce/xii-dopravni-konference/
LOCATION:Kongresové centrum Palác Pardubice\, Česká republika
CATEGORIES:Logistické konference
ATTACH;FMTTYPE=image/png:https://www.elogistika.info/wp-content/uploads/2022/12/img.png
ORGANIZER;CN="M%C3%A1%C5%A1a agency s.r.o.":MAILTO:info@masa-agency.cz
END:VEVENT
BEGIN:VEVENT
DTSTART;TZID=Europe/Prague:20240906T080000
DTEND;TZID=Europe/Prague:20240906T170000
DTSTAMP:20260421T160829
CREATED:20230813T073443Z
LAST-MODIFIED:20240119T102939Z
UID:75988-1725609600-1725642000@www.elogistika.info
SUMMARY:XII. Silniční veletrh
DESCRIPTION:Jedná se o jednodenní venkovní prezentační výstavu pouze pro zvané odborníky v oboru silničního hospodářství a stavitelství. Veletrh je určen pro firmy z oblasti silničního hospodářství výrobce a prodejce silniční techniky\, stavebních materiálů\, dodavatele měst a obcí\, SÚS a ŘSD prodejce nákladních automobilů\, stavebních strojů\, technologických zařízení a jejich příslušenství dodavatele dopravního značení\, osvětlení a komunální techniky dodavatele stavebních prací.
URL:https://www.elogistika.info/akce/xii-silnicni-veletrh/
LOCATION:Areál Správa a údržba silnic Pardubického kraje\, Doubravice 98\, Pardubice\, 533 53
CATEGORIES:Logistické veletrhy,Logistické workshopy
ATTACH;FMTTYPE=image/png:https://www.elogistika.info/wp-content/uploads/2023/08/img-1920x2071-1.png
ORGANIZER;CN="M%C3%A1%C5%A1a agency s.r.o.":MAILTO:info@masa-agency.cz
END:VEVENT
END:VCALENDAR